BEGIN:VCALENDAR
VERSION:2.0
PRODID:-//Williamson County Region, VCCA - ECPv6.15.20//NONSGML v1.0//EN
CALSCALE:GREGORIAN
METHOD:PUBLISH
X-WR-CALNAME:Williamson County Region, VCCA
X-ORIGINAL-URL:https://wcrvcca.org
X-WR-CALDESC:Events for Williamson County Region, VCCA
REFRESH-INTERVAL;VALUE=DURATION:PT1H
X-Robots-Tag:noindex
X-PUBLISHED-TTL:PT1H
BEGIN:VTIMEZONE
TZID:America/Kentucky/Louisville
BEGIN:DAYLIGHT
TZOFFSETFROM:-0500
TZOFFSETTO:-0400
TZNAME:EDT
DTSTART:20240310T070000
END:DAYLIGHT
BEGIN:STANDARD
TZOFFSETFROM:-0400
TZOFFSETTO:-0500
TZNAME:EST
DTSTART:20241103T060000
END:STANDARD
BEGIN:DAYLIGHT
TZOFFSETFROM:-0500
TZOFFSETTO:-0400
TZNAME:EDT
DTSTART:20250309T070000
END:DAYLIGHT
BEGIN:STANDARD
TZOFFSETFROM:-0400
TZOFFSETTO:-0500
TZNAME:EST
DTSTART:20251102T060000
END:STANDARD
BEGIN:DAYLIGHT
TZOFFSETFROM:-0500
TZOFFSETTO:-0400
TZNAME:EDT
DTSTART:20260308T070000
END:DAYLIGHT
BEGIN:STANDARD
TZOFFSETFROM:-0400
TZOFFSETTO:-0500
TZNAME:EST
DTSTART:20261101T060000
END:STANDARD
END:VTIMEZONE
BEGIN:VEVENT
DTSTART;TZID=America/Kentucky/Louisville:20251213T170000
DTEND;TZID=America/Kentucky/Louisville:20251213T200000
DTSTAMP:20260423T181539
CREATED:20250819T184719Z
LAST-MODIFIED:20251112T150542Z
UID:395-1765645200-1765656000@wcrvcca.org
SUMMARY:WCR Bowtie Bash Holiday Party
DESCRIPTION:Celebrate another year with your WCR friends at our 2025 Bowtie Bash Holiday Party! \n  
URL:https://wcrvcca.org/event/wcr-end-of-year-party/
LOCATION:Fliegler Residedence\, 2617 Link Drive\, Franklin\, TN\, 37064\, United States
CATEGORIES:Holiday Party,WCR Event
ORGANIZER;CN="Mark Fliegler%2C Region Director":MAILTO:wcrvcca@gmail.com
END:VEVENT
BEGIN:VEVENT
DTSTART;TZID=America/Kentucky/Louisville:20251025T090000
DTEND;TZID=America/Kentucky/Louisville:20251025T110000
DTSTAMP:20260423T181539
CREATED:20250819T183437Z
LAST-MODIFIED:20250819T183720Z
UID:390-1761382800-1761390000@wcrvcca.org
SUMMARY:WCR at the Morning Pointe Senior Living Cruise-in
DESCRIPTION:Join WCR club members at the Morning Pointe Senior Living Cruise-in.  There will be donuts\, coffee\, and entertainment!
URL:https://wcrvcca.org/event/wcr-at-the-morning-point-senior-living-cruise-in/
LOCATION:Morning Pointe Senior Living of Franklin\, TN.\, 1005 Generations Wy.\, Franklin\, TN\, 37064\, United States
CATEGORIES:Cruise-In,Non-WCR Event
ORGANIZER;CN="Mark Fliegler%2C Region Director":MAILTO:wcrvcca@gmail.com
END:VEVENT
BEGIN:VEVENT
DTSTART;TZID=America/Kentucky/Louisville:20251018T100000
DTEND;TZID=America/Kentucky/Louisville:20251018T140000
DTSTAMP:20260423T181539
CREATED:20250819T182420Z
LAST-MODIFIED:20250819T182515Z
UID:387-1760781600-1760796000@wcrvcca.org
SUMMARY:WCR at the Bell Buckle Cruise and Arts/Crafts Festival
DESCRIPTION:Meet your fellow WCR club members at this wonderful car event and arts and crafts event.  We will plan to meet on Saturday\, mid-morning to early afternoon.  
URL:https://wcrvcca.org/event/wcr-at-the-bell-buckle-cruise-and-arts-crafts-festival/
LOCATION:Bell Buckle Arts and Crafts Festival\, 16 Railroad Square\, \, TN\, Bell Buckle\, TN\, 37020\, United States
CATEGORIES:Non-WCR Event
ORGANIZER;CN="Mark Fliegler%2C Region Director":MAILTO:wcrvcca@gmail.com
END:VEVENT
BEGIN:VEVENT
DTSTART;TZID=America/Kentucky/Louisville:20250819T080000
DTEND;TZID=America/Kentucky/Louisville:20250819T170000
DTSTAMP:20260423T181539
CREATED:20250819T172632Z
LAST-MODIFIED:20250819T190126Z
UID:369-1755590400-1755622800@wcrvcca.org
SUMMARY:WCRVCCA  Nash Family Creamery Driving Tour and Lunch
DESCRIPTION:Join your fellow club members on a scenic drive\, followed by a visit to the Nash Family Creamery located in Chapel Hill\, Tennessee.  We will meet at White Bison Coffee in Franklin\, where you can fuel up with your favorite hot or iced beverage. You can then fill your vehicle at the fuel station located on the same site if needed\, before we have a quick Driver’s Meeting to share the details of our Scenic Drive to the Nash Family Creamery. Lunch will follow.  \n\nPlease reserve your spot directly at Nash Family Creamery at nashfamilycreamery.com. \nPlease also RSVP to Mark at (949) 290-7865 or wcrvcca@gmail.com
URL:https://wcrvcca.org/event/wcrvcca-nash-family-creamery-driving-tour-and-lunch/
CATEGORIES:Driving Tour
ORGANIZER;CN="Mark Fliegler%2C Region Director":MAILTO:wcrvcca@gmail.com
END:VEVENT
END:VCALENDAR