BEGIN:VCALENDAR
VERSION:2.0
PRODID:-//Williamson County Region, VCCA - ECPv6.15.20//NONSGML v1.0//EN
CALSCALE:GREGORIAN
METHOD:PUBLISH
X-ORIGINAL-URL:https://wcrvcca.org
X-WR-CALDESC:Events for Williamson County Region, VCCA
REFRESH-INTERVAL;VALUE=DURATION:PT1H
X-Robots-Tag:noindex
X-PUBLISHED-TTL:PT1H
BEGIN:VTIMEZONE
TZID:America/Kentucky/Louisville
BEGIN:DAYLIGHT
TZOFFSETFROM:-0500
TZOFFSETTO:-0400
TZNAME:EDT
DTSTART:20250309T070000
END:DAYLIGHT
BEGIN:STANDARD
TZOFFSETFROM:-0400
TZOFFSETTO:-0500
TZNAME:EST
DTSTART:20251102T060000
END:STANDARD
BEGIN:DAYLIGHT
TZOFFSETFROM:-0500
TZOFFSETTO:-0400
TZNAME:EDT
DTSTART:20260308T070000
END:DAYLIGHT
BEGIN:STANDARD
TZOFFSETFROM:-0400
TZOFFSETTO:-0500
TZNAME:EST
DTSTART:20261101T060000
END:STANDARD
BEGIN:DAYLIGHT
TZOFFSETFROM:-0500
TZOFFSETTO:-0400
TZNAME:EDT
DTSTART:20270314T070000
END:DAYLIGHT
BEGIN:STANDARD
TZOFFSETFROM:-0400
TZOFFSETTO:-0500
TZNAME:EST
DTSTART:20271107T060000
END:STANDARD
END:VTIMEZONE
BEGIN:VEVENT
DTSTART;TZID=America/Kentucky/Louisville:20260614T110000
DTEND;TZID=America/Kentucky/Louisville:20260614T140000
DTSTAMP:20260423T181539
CREATED:20260415T203508Z
LAST-MODIFIED:20260415T210511Z
UID:448-1781434800-1781445600@wcrvcca.org
SUMMARY:WCRVCCA Picnic
DESCRIPTION: \nCome on Down!\n  \n\n \n  \nThe Williamson County Region of the Vintage Chevrolet Club of America is\nhosting its third Picnic in the Park. \nYou are invited to come join the fun!\nYou don’t need to own an old Chevy to be a member of our Club!\nFamily members and guests are welcome. Bring the kids!\n  \n  \nDownload the Picnic Flyer\n\nBecome a\nmember.\nShow off your\nold Chevy.\nEnjoy each\nother’s\ncompany.\n\n  \nBring your old Chevrolet\, a Lawn Chair\, and a big appetite.  We’ll supply the Subs\, Chips\, and Soft Drinks!
URL:https://wcrvcca.org/event/wcrvcca-picnic/
LOCATION:Dallas Downs Park\, 431 Dallas Blvd.\, Franklin\, 37064\, United States
ORGANIZER;CN="Mark Fliegler%2C Region Director":MAILTO:wcrvcca@gmail.com
END:VEVENT
END:VCALENDAR